BEGIN:VCALENDAR
VERSION:2.0
PRODID:-//God&#039;s Word Alive Today - ECPv4.6.8//NONSGML v1.0//EN
CALSCALE:GREGORIAN
METHOD:PUBLISH
X-WR-CALNAME:God&#039;s Word Alive Today
X-ORIGINAL-URL:http://www.godswordalivetoday.org
X-WR-CALDESC:Events for God&#039;s Word Alive Today
BEGIN:VEVENT
DTSTART;TZID=America/New_York:20190628T180000
DTEND;TZID=America/New_York:20190628T210000
DTSTAMP:20260419T174923
CREATED:20190508T234353Z
LAST-MODIFIED:20190525T160347Z
UID:3154-1561744800-1561755600@www.godswordalivetoday.org
SUMMARY:Padre Pio Relics
DESCRIPTION:PLEASE NOTE: THE DATE IS NOW FRIDAY\, JUNE 28. \nPlease join us for a presentation of Padre Pio Relics and glove on Friday\, June 28 at Saint Matthew’s in Ridgefield from 6:00 p.m. – 9:00 p.m. \n
URL:http://www.godswordalivetoday.org/event/padre-pio-relics/
LOCATION:555 Prospect Avenue\, Ridgefield\, NJ\, 07657\, United States
END:VEVENT
END:VCALENDAR