BEGIN:VCALENDAR
VERSION:2.0
PRODID:-//God&#039;s Word Alive Today - ECPv4.6.8//NONSGML v1.0//EN
CALSCALE:GREGORIAN
METHOD:PUBLISH
X-WR-CALNAME:God&#039;s Word Alive Today
X-ORIGINAL-URL:http://www.godswordalivetoday.org
X-WR-CALDESC:Events for God&#039;s Word Alive Today
BEGIN:VEVENT
DTSTART;TZID=America/New_York:20190511T083000
DTEND;TZID=America/New_York:20190511T123000
DTSTAMP:20260419T192409
CREATED:20190508T233456Z
LAST-MODIFIED:20190508T233456Z
UID:3145-1557563400-1557577800@www.godswordalivetoday.org
SUMMARY:Holy Spirit Mass & Brunch
DESCRIPTION:Join us for the Holy Spirit Mass & Brunch on Saturday\, May 11 from 8:30 a.m. – 12:30 p.m. at St. Elizabeth of Hungary Church in Linden\, NJ. Father Bill will be speaking on “Put out into the deep water and lower your nets.” \nAdults: $15 – Children ages 5-10: $8 – Children under age 4: Free \nCheck payment: Payable to FPT – NJ \n
URL:http://www.godswordalivetoday.org/event/holy-spirit-mass-brunch/
LOCATION:220 East Blancke Street\, Linden\, NJ\, 07036
END:VEVENT
END:VCALENDAR