BEGIN:VCALENDAR
VERSION:2.0
PRODID:-//God&#039;s Word Alive Today - ECPv4.6.8//NONSGML v1.0//EN
CALSCALE:GREGORIAN
METHOD:PUBLISH
X-WR-CALNAME:God&#039;s Word Alive Today
X-ORIGINAL-URL:http://www.godswordalivetoday.org
X-WR-CALDESC:Events for God&#039;s Word Alive Today
BEGIN:VEVENT
DTSTART;TZID=America/New_York:20190524T200000
DTEND;TZID=America/New_York:20190524T220000
DTSTAMP:20260419T174734
CREATED:20190508T234148Z
LAST-MODIFIED:20190508T234148Z
UID:3150-1558728000-1558735200@www.godswordalivetoday.org
SUMMARY:Healing Mass
DESCRIPTION:Please join us for a Healing Mass on Friday\, May 24 at Saint Magdalen Church in Flemington from 8:00 p.m. – 10:00 p.m. \n
URL:http://www.godswordalivetoday.org/event/healing-mass-4/
LOCATION:105 Mine Street\, Flemington\, NJ\, 08822\, United States
END:VEVENT
END:VCALENDAR