BEGIN:VCALENDAR
VERSION:2.0
PRODID:-//God&#039;s Word Alive Today - ECPv4.6.8//NONSGML v1.0//EN
CALSCALE:GREGORIAN
METHOD:PUBLISH
X-WR-CALNAME:God&#039;s Word Alive Today
X-ORIGINAL-URL:http://www.godswordalivetoday.org
X-WR-CALDESC:Events for God&#039;s Word Alive Today
BEGIN:VEVENT
DTSTART;TZID=America/New_York:20190518T083000
DTEND;TZID=America/New_York:20190518T160000
DTSTAMP:20260419T194539
CREATED:20190508T233704Z
LAST-MODIFIED:20190508T233704Z
UID:3148-1558168200-1558195200@www.godswordalivetoday.org
SUMMARY:Day of Renewal / Gifts of The Holy Spirit
DESCRIPTION:Please join us for a Day of Renewal / Gifts of The Holy Spirit workshop to implement the gifts. \n
URL:http://www.godswordalivetoday.org/event/day-renewal-gifts-holy-spirit/
LOCATION:555 Prospect Avenue\, Ridgefield\, NJ\, 07657\, United States
END:VEVENT
END:VCALENDAR