BEGIN:VCALENDAR
VERSION:2.0
PRODID:-//God&#039;s Word Alive Today - ECPv4.6.8//NONSGML v1.0//EN
CALSCALE:GREGORIAN
METHOD:PUBLISH
X-WR-CALNAME:God&#039;s Word Alive Today
X-ORIGINAL-URL:http://www.godswordalivetoday.org
X-WR-CALDESC:Events for God&#039;s Word Alive Today
BEGIN:VEVENT
DTSTART;TZID=America/New_York:20181115T193000
DTEND;TZID=America/New_York:20181115T210000
DTSTAMP:20260419T174232
CREATED:20181113T001015Z
LAST-MODIFIED:20181113T001015Z
UID:2990-1542310200-1542315600@www.godswordalivetoday.org
SUMMARY:Bible Study - Mark
DESCRIPTION:Please join me for a Bible Study – The Book of Mark on Thursday\, November 15 at 7:30 p.m. \n
URL:http://www.godswordalivetoday.org/event/bible-study-mark/
LOCATION:7396 Amboy Road\, Staten Island\, New York\, 10307
END:VEVENT
END:VCALENDAR